{"text_format":"1","workbook":"xlsx","n_sheets":14,"sheets":["Cover","Info","Results","E01","E02","E03","E04","E05","E06","E07","E08","E09","E10","About"],"not_rendered":{"charts":10,"images":46,"macros":1,"external_links":1,"defined_names":15,"comments":0,"pivot_tables":0},"unopened":[],"bounds":{"document_bytes":16777216,"sheet_cells":100000,"rows_first":2000,"rows_last":500,"rows_between":2000,"halvings":0,"cell_chars":16384,"cell_head_chars":4096},"cells_cut":0,"cells_raw":0,"read":"whole","date_system":"1900"}

{"sheet":"Cover","index":0,"n_rows":0,"n_cols":0,"rows_kept":0,"cut":false,"hidden":false,"merged":[]}

{"sheet":"Info","index":1,"n_rows":49,"n_cols":4,"rows_kept":49,"cut":false,"hidden":false,"merged":[[0,0,0,16383],[49,1,49,3],[2,1,2,2],[3,1,3,2],[4,1,4,2],[5,1,5,2],[6,1,6,2],[39,1,39,2],[40,1,40,2],[41,1,41,2],[42,1,42,2],[43,1,43,2],[46,1,46,3],[45,1,45,2]]}
[]
[]
[null,"评估",null,"回应"]
[null,"城市名 :"]
[null,"城市类型（如市政、大都市地区等）:"]
[null,"国家 :"]
[null,"评估日期 :"]
[]
[null,"城市资料（必填）","回应","来源日期"]
[null,"最高级别的职位头衔（例如市长等）"]
[null,"城市总人口：  "]
[null,"城市总面积："]
[null,"人口密度（每平方公里）："]
[null,"青年（15-24）人口（％）："]
[null,"老年（65+）人口（％）："]
[null,"性别（女性户主家庭）："]
[null,"识字率（识字人口百分比）："]
[null,"贫困率（非贫困人口百分比）："]
[null,"家庭平均收入（美元）："]
[null,"非公民居民（％）："]
[null,"最容易（可能）发生的已知灾难风险："]
[null,"最严重的灾难（已知）："]
[]
[null,"城市概况 （必填）[1]","总人数和/或占总人口的百分比","信息来源"]
[null,"残疾人口（估计发生率）"]
[null,"按收入（低于贫困线）分列的信息"]
[null,"按性别分列的信息"]
[null,"按年龄分列的信息"]
[null,"按残疾类型分列的信息（身体损伤、感官损伤、认知损伤、智力损伤、精神疾病和某种形式的慢性病）。"]
[null,"按居民区或街区分列的信息"]
[]
[null,"城市资料（选填）","回应","来源日期"]
[null,"总户数："]
[null,"每户人口："]
[null,"生活费用（美元）："]
[null,"国家人均GDP（美元）"]
[null,"基尼系数："]
[null,"人均城市产出（美元）："]
[]
[null,"地方政府减灾与防灾团队",null,"回应"]
[null,"领导/协调记分卡评估的人员姓名："]
[null,"组织："]
[null,"联系信息："]
[null,"分享结果或被UNDRR及其合作伙伴用作示例/案例研究的意愿度："]
[]
[null,"城市/地方政府的残疾人状况 [2]"]
[]
[]
[null,"利息相关者信息 [3]"]

{"sheet":"Results","index":2,"n_rows":145,"n_cols":13,"rows_kept":145,"cut":false,"hidden":false,"merged":[[59,2,59,5],[35,2,35,5],[104,1,104,3],[88,2,88,5],[95,2,95,5],[96,2,96,5],[102,1,102,2],[86,3,86,5],[93,3,93,6],[89,2,89,5],[90,2,90,5],[75,2,75,5],[76,2,76,5],[34,2,34,5],[83,2,83,5],[41,2,41,5],[42,2,42,5],[49,2,49,5],[56,2,56,5],[54,3,54,6],[39,3,39,6],[62,3,62,6],[67,3,67,6],[73,3,73,6],[69,2,69,5],[70,2,70,5],[64,2,64,5],[58,2,58,5],[57,2,57,5]]}
[]
[]
[]
[]
[null,{"$f":"Info!B4&IF(Info!D4=\"\",\"\",Info!D4)","v":"城市名 :"}]
[]
[null,{"$f":"Info!B6&IF(Info!D6=\"\",\"\",Info!D6)","v":"国家 :"}]
[]
[null,{"$f":"Info!B7&IF(Info!D7=\"\",\"\",Info!D7)","v":"评估日期 :"}]
[]
[]
[]
[]
[]
[]
[]
[]
[]
[]
[]
[]
[]
[]
[]
[]
[]
[]
[]
[]
[]
[]
[]
[null,"Essential 01: ",null,{"$f":"D109","v":"组织起来提升抗灾韧性 - 灾害风险治理中的残疾人包容性"}]
[]
[null,{"$f":"C121","v":"问题1.1"},{"$f":"E121","v":"不让任何人落下"},null,null,null,{"$f":"F121","v":0}]
[null,{"$f":"C122","v":"问题1.2"},{"$f":"E122","v":"组织、协调和参与"},null,null,null,{"$f":"F122","v":0}]
[]
[]
[]
[null,"Essential 02: ",null,{"$f":"D110","v":"识别、理解和使用当前和未来的风险场景 - 灾害风险场景中的残疾人包容性"}]
[]
[null,{"$f":"C123","v":"问题2.1"},{"$f":"E123","v":"残疾包容性风险分析的设计和风险场景"},null,null,null,{"$f":"F123","v":0}]
[null,{"$f":"C124","v":"问题2.2"},{"$f":"E124","v":"级联效应"},null,null,null,{"$f":"F124","v":0}]
[]
[]
[]
[]
[null,"Essential 03:",null,{"$f":"D111","v":"加强财政能力，提高抗灾韧性   - 财政机制中的残疾人包容性"}]
[]
[null,{"$f":"C125","v":"问题3.1"},{"$f":"E125","v":"包容性财务机制"},null,null,null,{"$f":"F125","v":0}]
[]
[]
[]
[]
[null,"Essential 04:",null,{"$f":"D112","v":"追求有抗灾韧性的城市发展 - 土地使用/建筑规范中的残疾人包容性"}]
[]
[null,{"$f":"C126","v":"问题4.1"},{"$f":"E126","v":"包容性的有抗灾韧性的城市设计"},null,null,null,{"$f":"F126","v":0}]
[null,{"$f":"C127","v":"问题4.2"},{"$f":"E127","v":"建筑规范和标准"},null,null,null,{"$f":"F127","v":0}]
[null,{"$f":"C128","v":"问题4.3 "},{"$f":"E128","v":"建筑规范和标准"},null,null,null,{"$f":"F128","v":0}]
[null,{"$f":"C129","v":"问题4.4"},{"$f":"E129","v":"消除环境障碍"},null,null,null,{"$f":"F129","v":0}]
[]
[]
[null,"Essential 05:",null,{"$f":"D113","v":"保护自然缓冲区，加强自然生态系统的保护功能-  考虑到残疾人的生态系统服务管理"}]
[]
[null,null,"没有问题"]
[]
[]
[null,"Essential 06:",null,{"$f":"D114","v":"加强机构的抗灾韧性   - 机构能力中的残疾人包容性"}]
[]
[null,{"$f":"C130","v":"问题6.1"},{"$f":"E130","v":"抗灾韧性建设和包容性"},null,null,null,{"$f":"F130","v":0}]
[null,{"$f":"C131","v":"问题6.2"},{"$f":"E131","v":"无障碍语言"},null,null,null,{"$f":"F131","v":0}]
[]
[]
[null,"Essential 07: ",null,{"$f":"D115","v":"了解并加强社会的抗灾韧性 - I社会能力中的残疾人包容性"}]
[]
[null,{"$f":"C132","v":"问题7.1"},{"$f":"E132","v":"残疾人组织的积极参与"},null,null,null,{"$f":"F132","v":0}]
[null,{"$f":"C133","v":"问题7.2"},{"$f":"E133","v":"残疾人组织的能力建设"},null,null,null,{"$f":"F133","v":0}]
[]
[]
[]
[]
[null,"Essential 08:",null,{"$f":"D116","v":"提高基础设施的抗灾韧性   - 基础设施抗灾韧性中的残疾人包容性"}]
[]
[null,{"$f":"C134","v":"问题8.1"},{"$f":"E134","v":"免受暴力侵害"},null,null,null,{"$f":"F134","v":0}]
[]
[]
[null,"Essential 09:",null,{"$f":"D117","v":"确保有效的灾害响应   - 灾害响应中的残疾人包容性"}]
[]
[null,{"$f":"C135","v":"问题9.1"},{"$f":"E135","v":"包容性检测、监测和早期预警"},null,null,null,{"$f":"F135","v":0}]
[null,{"$f":"C136","v":"问题9.2"},{"$f":"E136","v":"演习"},null,null,null,{"$f":"F136","v":0}]
[null,{"$f":"C137","v":"问题9.3"},{"$f":"E137","v":"宣传活动和多场景演习"},null,null,null,{"$f":"F137","v":0}]
[]
[]
[null,"Essential 10: ",null,{"$f":"D118","v":"加快恢复，更好地重建   - 恢复/重建中的残疾人包容性"}]
[]
[null,{"$f":"C138","v":"问题10.1"},{"$f":"E138","v":"包容性重建和恢复"},null,null,null,{"$f":"F138","v":0}]
[null,{"$f":"C139","v":"问题10.2"},{"$f":"E139","v":"经验教训汇编"},null,null,null,{"$f":"F139","v":0}]
[]
[]
[]
[]
[]
[null,{"$f":"TODAY()","v":"2023-08-02"},null,null,null,null,null,{"$f":"Info!$B$4","v":"城市名 :"},{"$f":"IF(Info!D4=\"\",\"\",Info!D4)","v":""},null,{"$f":"Info!$B$6","v":"国家 :"},{"$f":"IF(Info!D6=\"\",\"\",Info!D6)","v":""}]
[]
[]
[]
[]
[null,null,"Label","Name",null,"Essential","TotalScore","MaxScore","Label"]
[null,null,"E1",{"$f":"'E01'!I2&\" - \"&'E01'!I3","v":"组织起来提升抗灾韧性 - 灾害风险治理中的残疾人包容性"},null,"E1",{"$f":"SUMIFS($F$121:$F$997,$B$121:$B$997,F109)","v":0},{"$f":"COUNTIFS($B$121:$B$997,F109)*3","v":6},"01",null,{"$f":"SUM(G109:G118)","v":0},{"$f":"K109/K110","v":0},{"$f":"CONCATENATE(\"该评估的整体分数为  \",SUM(G109:G118),\" / \",SUM(H109:H118))","v":"该评估的整体分数为  0 / 57"}]
[null,null,"E2",{"$f":"'E02'!I2&\" - \"&'E02'!I3","v":"识别、理解和使用当前和未来的风险场景 - 灾害风险场景中的残疾人包容性"},null,"E2",0,{"$f":"COUNTIFS($B$121:$B$997,F110)*3","v":6},"02",null,{"$f":"SUM(H109:H118)","v":57},{"$f":"1-L109","v":1}]
[null,null,"E3",{"$f":"'E03'!I2&\" - \"&'E03'!I3","v":"加强财政能力，提高抗灾韧性   - 财政机制中的残疾人包容性"},null,"E3",0,3,"03"]
[null,null,"E4",{"$f":"'E04'!I2&\" - \"&'E04'!I3","v":"追求有抗灾韧性的城市发展 - 土地使用/建筑规范中的残疾人包容性"},null,"E4",0,12,"04"]
[null,null,"E5",{"$f":"'E05'!I2&\"- \"&'E05'!I4","v":"保护自然缓冲区，加强自然生态系统的保护功能-  考虑到残疾人的生态系统服务管理"},null,"E5",0,0,"05"]
[null,null,"E6",{"$f":"'E06'!I2&\" - \"&'E06'!I3","v":"加强机构的抗灾韧性   - 机构能力中的残疾人包容性"},null,"E6",0,6,"06"]
[null,null,"E7",{"$f":"'E07'!I2&\" - \"&'E07'!I3","v":"了解并加强社会的抗灾韧性 - I社会能力中的残疾人包容性"},null,"E7",0,6,"07"]
[null,null,"E8",{"$f":"'E08'!I2&\" - \"&'E08'!I3","v":"提高基础设施的抗灾韧性   - 基础设施抗灾韧性中的残疾人包容性"},null,"E8",0,3,"08"]
[null,null,"E9",{"$f":"'E09'!I2&\" - \"&'E09'!I3","v":"确保有效的灾害响应   - 灾害响应中的残疾人包容性"},null,"E9",0,9,"09"]
[null,null,"E10",{"$f":"'E10'!I2&\" - \"&'E10'!I3","v":"加快恢复，更好地重建   - 恢复/重建中的残疾人包容性"},null,"E10",0,6,"10"]
[]
[null,"Section","Ref",null,"Question","SelectedScore","ThisScore"]
[null,"E1",{"$f":"'E01'!G$5","v":"问题1.1"},null,{"$f":"'E01'!I$5","v":"不让任何人落下"},{"$f":"IF(G121=\"\",0,IF(G121=0,0,4-G121))","v":0},{"$f":"OFFSET('E01'!$E$1,MATCH(C121,'E01'!G:G,0)+3,0)","v":0},null,"Remarks: "]
[null,"E1",{"$f":"'E01'!G$16","v":"问题1.2"},null,{"$f":"'E01'!I$16","v":"组织、协调和参与"},0,{"$f":"OFFSET('E01'!$E$1,MATCH(C122,'E01'!G:G,0)+3,0)","v":0},null,"- On this page, firstly fix from Row 126 downward to reflect all questions in this Scorecard"]
[null,"E2",{"$f":"'E02'!G$5","v":"问题2.1"},null,{"$f":"'E02'!I$5","v":"残疾包容性风险分析的设计和风险场景"},0,{"$f":"OFFSET('E02'!$E$1,MATCH(C123,'E02'!G:G,0)+3,0)","v":0},null,"- Column G from G127 downward, must double check the formula.  (Formula = offset(reference, rows, cols, [height],[width])"]
[null,"E2",{"$f":"'E02'!G$16","v":"问题2.2"},null,{"$f":"'E02'!I$16","v":"级联效应"},0,{"$f":"OFFSET('E02'!$E$1,MATCH(C124,'E02'!G:G,0)+3,0)","v":0},null,"- Column F from F127 downward, must adjust the formula. If the scoring bar is between 0-3, use \"4\"; if the scoring is between 0-5, use \"6\""]
[null,"E3",{"$f":"'E03'!G$5","v":"问题3.1"},null,{"$f":"'E03'!I$5","v":"包容性财务机制"},0,{"$f":"OFFSET('E03'!$E$1,MATCH(C125,'E03'!G:G,0)+3,0)","v":0},null,"E.G., =IF(G127=\"\",0,IF(G127=0,0,4-G127)) is for 0-3 scoring bar"]
[null,"E4",{"$f":"'E04'!G$5","v":"问题4.1"},null,{"$f":"'E04'!I$5","v":"包容性的有抗灾韧性的城市设计"},0,{"$f":"OFFSET('E04'!$E$1,MATCH(C126,'E04'!G:G,0)+3,0)","v":0},null,"E.G., =IF(G127=\"\",0,IF(G127=0,0,6-G127)) is for 0-5 scoring bar"]
[null,"E4",{"$f":"'E04'!G$16","v":"问题4.2"},null,{"$f":"'E04'!I$16","v":"建筑规范和标准"},0,{"$f":"OFFSET('E04'!$E$1,MATCH(C127,'E04'!G:G,0)+3,0)","v":0}]
[null,"E4",{"$f":"'E04'!G$27","v":"问题4.3 "},null,{"$f":"'E04'!I$27","v":"建筑规范和标准"},0,{"$f":"OFFSET('E04'!$E$1,MATCH(C128,'E04'!G:G,0)+3,0)","v":0},null,"-Then, work on Row 114 - 123"]
[null,"E4",{"$f":"'E04'!G$38","v":"问题4.4"},null,{"$f":"'E04'!I$38","v":"消除环境障碍"},0,{"$f":"OFFSET('E04'!$E$1,MATCH(C129,'E04'!G:G,0)+3,0)","v":0},null,"- Check Column D (D114:D123) for the Essential titles"]
[null,"E6",{"$f":"'E06'!G$5","v":"问题6.1"},null,{"$f":"'E06'!I$5","v":"抗灾韧性建设和包容性"},0,{"$f":"OFFSET('E06'!$E$1,MATCH(C130,'E06'!G:G,0)+3,0)","v":0},null,"- Check Column G (G114:G123).  The formular should not need fixing. (=SUMIFS($F$126:$F$1002,$B$126:$B$1002,F114)"]
[null,"E6",{"$f":"'E06'!G$16","v":"问题6.2"},null,{"$f":"'E06'!I$16","v":"无障碍语言"},0,{"$f":"OFFSET('E06'!$E$1,MATCH(C131,'E06'!G:G,0)+3,0)","v":0},null,"- Check Column H (H114:H123) Maximum Score"]
[null,"E7",{"$f":"'E07'!G$5","v":"问题7.1"},null,{"$f":"'E07'!I$5","v":"残疾人组织的积极参与"},0,{"$f":"OFFSET('E07'!$E$1,MATCH(C132,'E07'!G:G,0)+3,0)","v":0},null,"- Use formular =COUNTIFS($B$126:$B$1002,F114)*3, if scoring bar is 0-3"]
[null,"E7",{"$f":"'E07'!G$16","v":"问题7.2"},null,{"$f":"'E07'!I$16","v":"残疾人组织的能力建设"},0,{"$f":"OFFSET('E07'!$E$1,MATCH(C133,'E07'!G:G,0)+3,0)","v":0},null,"- Use formular =COUNTIFS($B$126:$B$1002,F114)*5, if scoring bar is 0-5"]
[null,"E8",{"$f":"'E08'!G$5","v":"问题8.1"},null,{"$f":"'E08'!I$5","v":"免受暴力侵害"},0,{"$f":"OFFSET('E08'!$E$1,MATCH(C134,'E08'!G:G,0)+3,0)","v":0}]
[null,"E9",{"$f":"'E09'!G$5","v":"问题9.1"},null,{"$f":"'E09'!I$5","v":"包容性检测、监测和早期预警"},0,{"$f":"OFFSET('E09'!$E$1,MATCH(C135,'E09'!G:G,0)+3,0)","v":0},null,"- Then adjust the result display area above"]
[null,"E9",{"$f":"'E09'!G$16","v":"问题9.2"},null,{"$f":"'E09'!I$16","v":"演习"},0,{"$f":"OFFSET('E09'!$E$1,MATCH(C136,'E09'!G:G,0)+3,0)","v":0},null,"- Fix the list of indicators"]
[null,"E9",{"$f":"'E09'!G$27","v":"问题9.3"},null,{"$f":"'E09'!I$27","v":"宣传活动和多场景演习"},0,{"$f":"OFFSET('E09'!$E$1,MATCH(C137,'E09'!G:G,0)+3,0)","v":0},null,"- Apply appropriate chart types"]
[null,"E10",{"$f":"'E10'!G$5","v":"问题10.1"},null,{"$f":"'E10'!I$5","v":"包容性重建和恢复"},0,{"$f":"OFFSET('E10'!$E$1,MATCH(C138,'E10'!G:G,0)+3,0)","v":0},null,"- Change chart's axis value (3 maximum for 0-3 scoring bar, and 5 maximum for 0-5 scoring bar)"]
[null,"E10",{"$f":"'E10'!G$16","v":"问题10.2"},null,{"$f":"'E10'!I$16","v":"经验教训汇编"},0,{"$f":"OFFSET('E10'!$E$1,MATCH(C139,'E10'!G:G,0)+3,0)","v":0},null,"- Adjust the chart diaplay alignment across all essentials, etc."]
[null,null,null,null,null,null,null,null,"- View from 'Page Break Preview' and further adjust page layout to fit nicely in the print area"]
[]
[]
[null,null,null,null,null,null,null,null,"- Replace the title part, copyright year with launch year, check other texts, and the overall diagram (adjust axis value if needed)"]
[]
[null,null,null,null,null,null,null,null,"- Once done, change font color from Row 107 downward to white"]

{"sheet":"E01","index":3,"n_rows":38,"n_cols":9,"rows_kept":38,"cut":false,"hidden":false,"merged":[[19,2,22,3],[7,2,7,3],[8,2,11,3],[5,2,5,3],[6,2,6,3],[16,2,16,3],[17,2,17,3],[18,2,18,3]]}
[]
[null,null,null,null,null,null,null,null,"组织起来提升抗灾韧性"]
[null,"E1 灾害风险治理中的残疾人包容性",null,null,null,null,{"$f":"TRIM(LEFT(B3,3))","v":"E1"},null,{"$f":"TRIM(MID(B3,4,80))","v":"灾害风险治理中的残疾人包容性"}]
[]
[null,"问题1.1 不让任何人落下",null,null,null,null,{"$f":"TRIM(LEFT(B5,6))","v":"问题1.1"},null,{"$f":"TRIM(MID(B5,6,120))","v":"不让任何人落下"}]
[null,"问题","评论"]
[]
[null,"答案","验证手段（解释和证据）"]
[null,null,null,null,null,{"$f":"IF($E$9=1,TRUE,FALSE)","v":false}]
[null,null,null,null,null,{"$f":"IF($E$9=2,TRUE,FALSE)","v":false}]
[null,null,null,null,null,{"$f":"IF($E$9=3,TRUE,FALSE)","v":false}]
[null,null,null,null,null,{"$f":"IF($E$9=4,TRUE,FALSE)","v":false}]
[null,"促进残疾人包容性的行动","负责任的实体 ","分配的时间"]
[]
[]
[null,"问题1.2 组织、协调和参与 ",null,null,null,null,{"$f":"TRIM(LEFT(B16,6))","v":"问题1.2"},null,{"$f":"TRIM(MID(B16,6,120))","v":"组织、协调和参与"}]
[null,"问题","评论"]
[]
[null,"答案","验证手段（解释和证据）"]
[null,null,null,null,null,{"$f":"IF($E$20=1,TRUE,FALSE)","v":false}]
[null,null,null,null,null,{"$f":"IF($E$20=2,TRUE,FALSE)","v":false}]
[null,null,null,null,null,{"$f":"IF($E$20=3,TRUE,FALSE)","v":false}]
[null,null,null,null,null,{"$f":"IF($E$20=4,TRUE,FALSE)","v":false}]
[null,"促进残疾人包容性的行动","负责任的实体 ","分配的时间"]
[]
[]
[null,null,null,null,null,null,{"$f":"LEFT(B27,5)","v":""}]
[]
[]
[]
[]
[]
[]
[]
[]
[]
[]
[null,null,null,null,null,null,{"$f":"LEFT(B38,5)","v":""}]

{"sheet":"E02","index":4,"n_rows":38,"n_cols":9,"rows_kept":38,"cut":false,"hidden":false,"merged":[[18,2,18,3],[8,2,11,3],[19,2,22,3],[5,2,5,3],[6,2,6,3],[7,2,7,3],[16,2,16,3],[17,2,17,3]]}
[]
[null,null,null,null,null,null,null,null,"识别、理解和使用当前和未来的风险场景"]
[null,"E2 灾害风险场景中的残疾人包容性",null,null,null,null,{"$f":"TRIM(LEFT(B3,3))","v":"E2"},null,{"$f":"TRIM(MID(B3,4,80))","v":"灾害风险场景中的残疾人包容性"}]
[]
[null,"问题2.1 残疾包容性风险分析的设计和风险场景",null,null,null,null,{"$f":"TRIM(LEFT(B5,6))","v":"问题2.1"},null,{"$f":"TRIM(MID(B5,6,120))","v":"残疾包容性风险分析的设计和风险场景"}]
[null,"问题","评论"]
[]
[null,"答案","验证手段（解释和证据）"]
[null,null,null,null,null,{"$f":"IF($E$9=1,TRUE,FALSE)","v":false}]
[null,null,null,null,null,{"$f":"IF($E$9=2,TRUE,FALSE)","v":false}]
[null,null,null,null,null,{"$f":"IF($E$9=3,TRUE,FALSE)","v":false}]
[null,null,null,null,null,{"$f":"IF($E$9=4,TRUE,FALSE)","v":false}]
[null,"促进残疾人包容性的行动","负责任的实体 ","分配的时间"]
[]
[]
[null,"问题2.2 级联效应",null,null,null,null,{"$f":"TRIM(LEFT(B16,6))","v":"问题2.2"},null,{"$f":"TRIM(MID(B16,6,120))","v":"级联效应"}]
[null,"问题","评论"]
[]
[null,"答案","验证手段（解释和证据）"]
[null,null,null,null,null,{"$f":"IF($E$20=1,TRUE,FALSE)","v":false}]
[null,null,null,null,null,{"$f":"IF(E20=2,TRUE,FALSE)","v":false}]
[null,null,null,null,null,{"$f":"IF(E20=3,TRUE,FALSE)","v":false}]
[null,null,null,null,null,{"$f":"IF(E20=4,TRUE,FALSE)","v":false}]
[null,"促进残疾人包容性的行动","负责任的实体 ","分配的时间"]
[]
[]
[null,null,null,null,null,null,{"$f":"LEFT(B27,5)","v":""}]
[]
[]
[]
[]
[]
[]
[]
[]
[]
[]
[null,null,null,null,null,null,{"$f":"LEFT(B38,5)","v":""}]

{"sheet":"E03","index":5,"n_rows":38,"n_cols":9,"rows_kept":38,"cut":false,"hidden":false,"merged":[[4,1,4,3],[5,2,5,3],[6,2,6,3],[7,2,7,3],[8,2,11,3]]}
[]
[null,null,null,null,null,null,null,null,"加强财政能力，提高抗灾韧性  "]
[null,"E3 财政机制中的残疾人包容性",null,null,null,null,{"$f":"TRIM(LEFT(B3,3))","v":"E3"},null,{"$f":"TRIM(MID(B3,4,80))","v":"财政机制中的残疾人包容性"}]
[]
[null,"问题3.1 包容性财务机制",null,null,null,null,{"$f":"TRIM(LEFT(B5,6))","v":"问题3.1"},null,{"$f":"TRIM(MID(B5,6,120))","v":"包容性财务机制"}]
[null,"问题","评论"]
[]
[null,"答案","验证手段（解释和证据）"]
[null,null,null,null,null,{"$f":"IF($E$9=1,TRUE,FALSE)","v":false}]
[null,null,null,null,null,{"$f":"IF($E$9=2,TRUE,FALSE)","v":false}]
[null,null,null,null,null,{"$f":"IF($E$9=3,TRUE,FALSE)","v":false}]
[null,null,null,null,null,{"$f":"IF($E$9=4,TRUE,FALSE)","v":false}]
[null,"促进残疾人包容性的行动","负责任的实体 ","分配的时间"]
[]
[]
[null,null,null,null,null,null,{"$f":"TRIM(LEFT(B16,6))","v":""}]
[]
[]
[]
[]
[]
[]
[]
[]
[]
[]
[null,null,null,null,null,null,{"$f":"LEFT(B27,5)","v":""}]
[]
[]
[]
[]
[]
[]
[]
[]
[]
[]
[null,null,null,null,null,null,{"$f":"LEFT(B38,5)","v":""}]

{"sheet":"E04","index":6,"n_rows":46,"n_cols":9,"rows_kept":46,"cut":false,"hidden":false,"merged":[[28,2,28,3],[29,2,29,3],[30,2,33,3],[4,1,4,3],[5,2,5,3],[8,2,11,3],[6,2,6,3],[7,2,7,3],[15,1,15,3],[16,2,16,3],[17,2,17,3],[18,2,18,3],[19,2,21,3],[26,1,26,3],[27,2,27,3],[37,1,37,3],[38,2,38,3],[39,2,39,3],[40,2,40,3],[41,2,44,3]]}
[]
[null,null,null,null,null,null,null,null,"追求有抗灾韧性的城市发展"]
[null,"E4 土地使用/建筑规范中的残疾人包容性",null,null,null,null,{"$f":"TRIM(LEFT(B3,3))","v":"E4"},null,{"$f":"TRIM(MID(B3,4,100))","v":"土地使用/建筑规范中的残疾人包容性"}]
[]
[null,"问题4.1 包容性的有抗灾韧性的城市设计",null,null,null,null,{"$f":"TRIM(LEFT(B5,6))","v":"问题4.1"},null,{"$f":"TRIM(MID(B5,6,120))","v":"包容性的有抗灾韧性的城市设计"}]
[null,"问题","评论"]
[]
[null,"答案","验证手段（解释和证据）"]
[null,null,null,null,null,{"$f":"IF(E9=1,TRUE,FALSE)","v":false}]
[null,null,null,null,null,{"$f":"IF(E9=2,TRUE,FALSE)","v":false}]
[null,null,null,null,null,{"$f":"IF(E9=3,TRUE,FALSE)","v":false}]
[null,null,null,null,null,{"$f":"IF(E9=4,TRUE,FALSE)","v":false}]
[null,"促进残疾人包容性的行动","负责任的实体 ","Timescale"]
[]
[]
[null,"  问题4.2 建筑规范和标准",null,null,null,null,{"$f":"TRIM(LEFT(B16,8))","v":"问题4.2"},null,{"$f":"TRIM(MID(B16,8,120))","v":"建筑规范和标准"}]
[null,"问题","评论"]
[]
[null,"答案","验证手段（解释和证据）"]
[null,null,null,null,null,{"$f":"IF($E$20=1,TRUE,FALSE)","v":false}]
[null,null,null,null,null,{"$f":"IF($E$20=2,TRUE,FALSE)","v":false}]
[null,null,null,null,null,{"$f":"IF($E$20=3,TRUE,FALSE)","v":false}]
[null,null,null,null,null,{"$f":"IF($E$20=4,TRUE,FALSE)","v":false}]
[null,"促进残疾人包容性的行动","负责任的实体 ","分配的时间"]
[]
[]
[null,"问题4.3 建筑规范和标准",null,null,null,null,{"$f":"LEFT(B27,6)","v":"问题4.3 "},null,{"$f":"TRIM(MID(B27,7,120))","v":"建筑规范和标准"}]
[null,"问题","评论"]
[]
[null,"答案","验证手段（解释和证据）"]
[null,null,null,null,null,{"$f":"IF($E$31=1,TRUE,FALSE)","v":false}]
[null,null,null,null,null,{"$f":"IF($E$31=2,TRUE,FALSE)","v":false}]
[null,null,null,null,null,{"$f":"IF($E$31=3,TRUE,FALSE)","v":false}]
[null,null,null,null,null,{"$f":"IF($E$31=4,TRUE,FALSE)","v":false}]
[null,"促进残疾人包容性的行动","负责任的实体 ","分配的时间"]
[]
[]
[" ","问题4.4 消除环境障碍",null,null,null,null,{"$f":"LEFT(B38,5)","v":"问题4.4"},null,{"$f":"TRIM(MID(B38,6,120))","v":"消除环境障碍"}]
[null,"问题","评论"]
[]
[null,"答案","验证手段（解释和证据）"]
[null,null,null,null,null,{"$f":"IF(E42=1,TRUE,FALSE)","v":false}]
[null,null,null,null,null,{"$f":"IF(E42=2,TRUE,FALSE)","v":false}]
[null,null,null,null,null,{"$f":"IF(E42=3,TRUE,FALSE)","v":false}]
[null,null,null,null,null,{"$f":"IF(E42=4,TRUE,FALSE)","v":false}]
[null,"促进残疾人包容性的行动","负责任的实体 ","分配的时间"]

{"sheet":"E05","index":7,"n_rows":4,"n_cols":9,"rows_kept":4,"cut":false,"hidden":false,"merged":[]}
[]
[null,null,null,null,null,null,null,null,"保护自然缓冲区，加强自然生态系统的保护功能"]
[]
[null,"E5 考虑到残疾人的生态系统服务管理",null,null,null,null,null,null," 考虑到残疾人的生态系统服务管理"]

{"sheet":"E06","index":8,"n_rows":38,"n_cols":9,"rows_kept":38,"cut":false,"hidden":false,"merged":[[4,1,4,3],[5,2,5,3],[6,2,6,3],[7,2,7,3],[8,2,11,3],[19,2,22,3],[15,1,15,3],[16,2,16,3],[17,2,17,3],[18,2,18,3]]}
[]
[null,null,null,null,null,null,null,null,"加强机构的抗灾韧性  "]
[null,"E6 机构能力中的残疾人包容性",null,null,null,null,{"$f":"TRIM(LEFT(B3,3))","v":"E6"},null,{"$f":"TRIM(MID(B3,4,80))","v":"机构能力中的残疾人包容性"}]
[]
[null,"问题6.1 抗灾韧性建设和包容性",null,null,null,null,{"$f":"TRIM(LEFT(B5,6))","v":"问题6.1"},null,{"$f":"TRIM(MID(B5,6,120))","v":"抗灾韧性建设和包容性"}]
[null,"问题","评论"]
[]
[null,"答案","验证手段（解释和证据）"]
[null,null,null,null,null,{"$f":"IF(E9=1,TRUE,FALSE)","v":false}]
[null,null,null,null,null,{"$f":"IF(E9=2,TRUE,FALSE)","v":false}]
[null,null,null,null,null,{"$f":"IF(E9=3,TRUE,FALSE)","v":false}]
[null,null,null,null,null,{"$f":"IF(E9=4,TRUE,FALSE)","v":false}]
[null,"促进残疾人包容性的行动","负责任的实体 ","分配的时间"]
[]
[]
[null," 问题6.2 无障碍语言",null,null,null,null,{"$f":"TRIM(LEFT(B16,6))","v":"问题6.2"},null,{"$f":"TRIM(MID(B16,8,120))","v":"无障碍语言"}]
[null,"问题","评论"]
[]
[null,"答案","验证手段（解释和证据）"]
[null,null,null,null,null,{"$f":"IF(E20=1,TRUE,FALSE)","v":false}]
[null,null,null,null,null,{"$f":"IF(E20=2,TRUE,FALSE)","v":false}]
[null,null,null,null,null,{"$f":"IF(E20=3,TRUE,FALSE)","v":false}]
[null,null,null,null,null,{"$f":"IF(E20=4,TRUE,FALSE)","v":false}]
[null,"促进残疾人包容性的行动","负责任的实体 ","分配的时间"]
[]
[]
[null,null,null,null,null,null,{"$f":"LEFT(B27,5)","v":""},null,{"$f":"TRIM(MID(B27,6,120))","v":""}]
[]
[]
[]
[]
[]
[]
[]
[]
[]
[]
[null,null,null,null,null,null,{"$f":"LEFT(B38,5)","v":""},null,{"$f":"TRIM(MID(B38,6,120))","v":""}]

{"sheet":"E07","index":9,"n_rows":38,"n_cols":9,"rows_kept":38,"cut":false,"hidden":false,"merged":[[4,1,4,3],[5,2,5,3],[6,2,6,3],[7,2,7,3],[15,1,15,3],[16,2,16,3],[8,2,11,3],[19,2,22,3],[17,2,17,3],[18,2,18,3]]}
[]
[null,null,null,null,null,null,null,null,"了解并加强社会的抗灾韧性"]
[null,"E7 I社会能力中的残疾人包容性",null,null,null,null,{"$f":"TRIM(LEFT(B3,3))","v":"E7"},null,{"$f":"TRIM(MID(B3,4,80))","v":"I社会能力中的残疾人包容性"}]
[]
[null,"  问题7.1 残疾人组织的积极参与 ",null,null,null,null,{"$f":"TRIM(LEFT(B5,8))","v":"问题7.1"},null,{"$f":"TRIM(MID(B5,8,120))","v":"残疾人组织的积极参与"}]
[null,"问题","评论"]
[]
[null,"答案","验证手段（解释和证据）"]
[null,null,null,null,null,{"$f":"IF(E9=1,TRUE,FALSE)","v":false}]
[null,null,null,null,null,{"$f":"IF(E9=2,TRUE,FALSE)","v":false}]
[null,null,null,null,null,{"$f":"IF(E9=3,TRUE,FALSE)","v":false}]
[null,null,null,null,null,{"$f":"IF(E9=4,TRUE,FALSE)","v":false}]
[null,"促进残疾人包容性的行动","负责任的实体 ","分配的时间"]
[]
[]
[null,"  问题7.2 残疾人组织的能力建设 ",null,null,null,null,{"$f":"TRIM(LEFT(B16,8))","v":"问题7.2"},null,{"$f":"TRIM(MID(B16,8,120))","v":"残疾人组织的能力建设"}]
[null,"问题","评论"]
[]
[null,"答案","验证手段（解释和证据）"]
[null,null,null,null,null,{"$f":"IF(E20=1,TRUE,FALSE)","v":false}]
[null,null,null,null,null,{"$f":"IF(E20=2,TRUE,FALSE)","v":false}]
[null,null,null,null,null,{"$f":"IF(E20=3,TRUE,FALSE)","v":false}]
[null,null,null,null,null,{"$f":"IF(E20=4,TRUE,FALSE)","v":false}]
[null,"促进残疾人包容性的行动","负责任的实体 ","分配的时间"]
[]
[]
[null,null,null,null,null,null,{"$f":"LEFT(B27,5)","v":""},null,{"$f":"TRIM(MID(B27,6,120))","v":""}]
[]
[]
[]
[]
[]
[]
[]
[]
[]
[]
[null,null,null,null,null,null,{"$f":"LEFT(B38,5)","v":""},null,{"$f":"TRIM(MID(B38,6,120))","v":""}]

{"sheet":"E08","index":10,"n_rows":38,"n_cols":10,"rows_kept":38,"cut":false,"hidden":false,"merged":[[8,2,11,3],[4,1,4,3],[5,2,5,3],[6,2,6,3],[7,2,7,3]]}
[]
[null,null,null,null,null,null,null,null,"提高基础设施的抗灾韧性  "]
[null,"E8  基础设施抗灾韧性中的残疾人包容性",null,null,null,null,{"$f":"TRIM(LEFT(B3,3))","v":"E8"},null,{"$f":"TRIM(MID(B3,4,80))","v":"基础设施抗灾韧性中的残疾人包容性"},{"$f":"TRIM(MID(C3,4,80))","v":""}]
[]
[null,"  问题8.1 免受暴力侵害",null,null,null,null,{"$f":"TRIM(LEFT(B5,8))","v":"问题8.1"},null,{"$f":"TRIM(MID(B5,8,120))","v":"免受暴力侵害"},{"$f":"TRIM(MID(C5,6,120))","v":""}]
[null,"问题","评论"]
[]
[null,"答案","验证手段（解释和证据）"]
[null,null,null,null,null,{"$f":"IF(E9=1,TRUE,FALSE)","v":false}]
[null,null,null,null,null,{"$f":"IF(E9=2,TRUE,FALSE)","v":false}]
[null,null,null,null,null,{"$f":"IF(E9=3,TRUE,FALSE)","v":false}]
[null,null,null,null,null,{"$f":"IF(E9=4,TRUE,FALSE)","v":false}]
[null,"促进残疾人包容性的行动","负责任的实体 ","分配的时间"]
[]
[]
[null,null,null,null,null,null,{"$f":"TRIM(LEFT(B16,6))","v":""},null,{"$f":"TRIM(MID(B16,6,120))","v":""},{"$f":"TRIM(MID(C16,6,120))","v":""}]
[]
[]
[]
[]
[]
[]
[]
[]
[]
[]
[null,null,null,null,null,null,{"$f":"LEFT(B27,5)","v":""},null,{"$f":"TRIM(MID(B27,6,120))","v":""},{"$f":"TRIM(MID(C27,6,120))","v":""}]
[]
[]
[]
[]
[]
[]
[]
[]
[]
[]
[null,null,null,null,null,null,{"$f":"LEFT(B38,5)","v":""},null,{"$f":"TRIM(MID(B38,6,120))","v":""},{"$f":"TRIM(MID(C38,6,120))","v":""}]

{"sheet":"E09","index":11,"n_rows":38,"n_cols":9,"rows_kept":38,"cut":false,"hidden":false,"merged":[[30,2,33,3],[19,2,22,3],[26,1,26,3],[27,2,27,3],[28,2,28,3],[29,2,29,3],[17,2,17,3],[18,2,18,3],[4,1,4,3],[5,2,5,3],[6,2,6,3],[7,2,7,3],[15,1,15,3],[16,2,16,3],[8,2,11,3]]}
[]
[null,null,null,null,null,null,null,null,"确保有效的灾害响应  "]
[null,"E9 灾害响应中的残疾人包容性",null,null,null,null,{"$f":"TRIM(LEFT(B3,3))","v":"E9"},null,{"$f":"TRIM(MID(B3,4,80))","v":"灾害响应中的残疾人包容性"}]
[]
[null,"问题9.1 包容性检测、监测和早期预警",null,null,null,null,{"$f":"TRIM(LEFT(B5,6))","v":"问题9.1"},null,{"$f":"TRIM(MID(B5,6,120))","v":"包容性检测、监测和早期预警"}]
[null,"问题","评论"]
[]
[null,"答案","验证手段（解释和证据）"]
[null,null,null,null,null,{"$f":"IF(E9=1,TRUE,FALSE)","v":false}]
[null,null,null,null,null,{"$f":"IF(E9=2,TRUE,FALSE)","v":false}]
[null,null,null,null,null,{"$f":"IF(E9=3,TRUE,FALSE)","v":false}]
[null,null,null,null,null,{"$f":"IF(E9=4,TRUE,FALSE)","v":false}]
[null,"促进残疾人包容性的行动","负责任的实体 ","分配的时间"]
[]
[]
[null,"  问题9.2 演习",null,null,null,null,{"$f":"TRIM(LEFT(B16,8))","v":"问题9.2"},null,{"$f":"TRIM(MID(B16,9,120))","v":"演习"}]
[null,"问题","评论"]
[]
[null,"答案","验证手段（解释和证据）"]
[null,null,null,null,null,{"$f":"IF(E20=1,TRUE,FALSE)","v":false}]
[null,null,null,null,null,{"$f":"IF(E20=2,TRUE,FALSE)","v":false}]
[null,null,null,null,null,{"$f":"IF(E20=3,TRUE,FALSE)","v":false}]
[null,null,null,null,null,{"$f":"IF(E20=4,TRUE,FALSE)","v":false}]
[null,"促进残疾人包容性的行动","负责任的实体 ","分配的时间"]
[]
[]
[null,"问题9.3 宣传活动和多场景演习",null,null,null,null,{"$f":"LEFT(B27,5)","v":"问题9.3"},null,{"$f":"TRIM(MID(B27,6,120))","v":"宣传活动和多场景演习"}]
[null,"问题","评论"]
[]
[null,"答案","验证手段（解释和证据）"]
[null,null,null,null,null,{"$f":"IF(E31=1,TRUE,FALSE)","v":false}]
[null,null,null,null,null,{"$f":"IF(E31=2,TRUE,FALSE)","v":false}]
[null,null,null,null,null,{"$f":"IF(E31=3,TRUE,FALSE)","v":false}]
[null,null,null,null,null,{"$f":"IF(E31=4,TRUE,FALSE)","v":false}]
[null,"促进残疾人包容性的行动","负责任的实体 ","分配的时间"]
[]
[]
[null,null,null,null,null,null,{"$f":"LEFT(B38,5)","v":""},null,{"$f":"TRIM(MID(B38,6,120))","v":""}]

{"sheet":"E10","index":12,"n_rows":38,"n_cols":9,"rows_kept":38,"cut":false,"hidden":false,"merged":[[16,2,16,3],[17,2,17,3],[18,2,18,3],[19,2,22,3],[4,1,4,3],[5,2,5,3],[6,2,6,3],[7,2,7,3],[8,2,11,3],[15,1,15,3]]}
[]
[null,null,null,null,null,null,null,null,"加快恢复，更好地重建  "]
[null,"E10 恢复/重建中的残疾人包容性",null,null,null,null,{"$f":"TRIM(LEFT(B3,3))","v":"E10"},null,{"$f":"TRIM(MID(B3,4,80))","v":"恢复/重建中的残疾人包容性"}]
[]
[null,"  问题10.1 包容性重建和恢复",null,null,null,null,{"$f":"TRIM(LEFT(B5,8))","v":"问题10.1"},null,{"$f":"TRIM(MID(B5,10,120))","v":"包容性重建和恢复"}]
[null,"问题","评论"]
[]
[null,"答案","验证手段（解释和证据）"]
[null,null,null,null,null,{"$f":"IF(E9=1,TRUE,FALSE)","v":false}]
[null,null,null,null,null,{"$f":"IF(E9=2,TRUE,FALSE)","v":false}]
[null,null,null,null,null,{"$f":"IF(E9=3,TRUE,FALSE)","v":false}]
[null,null,null,null,null,{"$f":"IF(E9=4,TRUE,FALSE)","v":false}]
[null,"促进残疾人包容性的行动","负责任的实体 ","分配的时间"]
[]
[]
[null,"  问题10.2 经验教训汇编",null,null,null,null,{"$f":"TRIM(LEFT(B16,8))","v":"问题10.2"},null,{"$f":"TRIM(MID(B16,10,120))","v":"经验教训汇编"}]
[null,"问题","评论"]
[]
[null,"答案","验证手段（解释和证据）"]
[null,null,null,null,null,{"$f":"IF(E20=1,TRUE,FALSE)","v":false}]
[null,null,null,null,null,{"$f":"IF(E20=2,TRUE,FALSE)","v":false}]
[null,null,null,null,null,{"$f":"IF(E20=3,TRUE,FALSE)","v":false}]
[null,null,null,null,null,{"$f":"IF(E20=4,TRUE,FALSE)","v":false}]
[null,"促进残疾人包容性的行动","负责任的实体 ","分配的时间"]
[]
[]
[null,null,null,null,null,null,{"$f":"LEFT(B27,5)","v":""},null,{"$f":"TRIM(MID(B27,6,120))","v":""}]
[]
[]
[]
[]
[]
[]
[]
[]
[]
[]
[null,null,null,null,null,null,{"$f":"LEFT(B38,5)","v":""},null,{"$f":"TRIM(MID(B38,6,120))","v":""}]

{"sheet":"About","index":13,"n_rows":0,"n_cols":0,"rows_kept":0,"cut":false,"hidden":false,"merged":[]}